BEGIN:VCALENDAR
VERSION:2.0
PRODID:-//Grossmont Healthcare District - ECPv6.15.20//NONSGML v1.0//EN
CALSCALE:GREGORIAN
METHOD:PUBLISH
X-ORIGINAL-URL:https://www.grossmonthealthcare.org
X-WR-CALDESC:Events for Grossmont Healthcare District
REFRESH-INTERVAL;VALUE=DURATION:PT1H
X-Robots-Tag:noindex
X-PUBLISHED-TTL:PT1H
BEGIN:VTIMEZONE
TZID:America/Los_Angeles
BEGIN:DAYLIGHT
TZOFFSETFROM:-0800
TZOFFSETTO:-0700
TZNAME:PDT
DTSTART:20240310T100000
END:DAYLIGHT
BEGIN:STANDARD
TZOFFSETFROM:-0700
TZOFFSETTO:-0800
TZNAME:PST
DTSTART:20241103T090000
END:STANDARD
BEGIN:DAYLIGHT
TZOFFSETFROM:-0800
TZOFFSETTO:-0700
TZNAME:PDT
DTSTART:20250309T100000
END:DAYLIGHT
BEGIN:STANDARD
TZOFFSETFROM:-0700
TZOFFSETTO:-0800
TZNAME:PST
DTSTART:20251102T090000
END:STANDARD
BEGIN:DAYLIGHT
TZOFFSETFROM:-0800
TZOFFSETTO:-0700
TZNAME:PDT
DTSTART:20260308T100000
END:DAYLIGHT
BEGIN:STANDARD
TZOFFSETFROM:-0700
TZOFFSETTO:-0800
TZNAME:PST
DTSTART:20261101T090000
END:STANDARD
END:VTIMEZONE
BEGIN:VEVENT
DTSTART;TZID=America/Los_Angeles:20250329T100000
DTEND;TZID=America/Los_Angeles:20250329T150000
DTSTAMP:20260419T065453
CREATED:20250224T203411Z
LAST-MODIFIED:20250224T203411Z
UID:10002039-1743242400-1743260400@www.grossmonthealthcare.org
SUMMARY:Sharp Grossmont Hospital for Neuroscience: Community Open House
DESCRIPTION:Presented by Sharp Grossmont Hospital\nYou’re invited to be among the first to go behind the scenes at the new Sharp Grossmont Hospital for Neuroscience. Come experience San Diego County’s first comprehensive center for patients needing advanced brain and spine care before it opens to the public. \n\n• Meet the doctors and staff delivering world-class care to our region• Enjoy exclusive tours and interactive exhibits• Giveaways\, music\, refreshments and more\n\nOur new state-of-the-art facility will offer coordinated care and specialized treatments for patients with complex neurological conditions\, including innovative procedures available nowhere else in the region — all within one integrated location.\nRegistration is not required for this event. Parking is free and available in Parking Structure 2\, conveniently located next to the hospital. \n\nDate: Saturday\, March 29Time: 10 a.m. to 3 p.m.Location: Sharp Grossmont Hospital for Neuroscience\, 5555 Grossmont Center Dr\, La Mesa\, CA 91942
URL:https://www.grossmonthealthcare.org/event/sharp-grossmont-hospital-for-neuroscience-community-open-house/
LOCATION:Sharp Grossmont Hospital for Neuroscience\, 5555 Grossmont Center Dr\, La Mesa\, CA 91942
CATEGORIES:GHD
ATTACH;FMTTYPE=image/jpeg:https://www.grossmonthealthcare.org/wp-content/uploads/2025/02/Featured-images-2025.jpg
END:VEVENT
END:VCALENDAR