BEGIN:VCALENDAR
VERSION:2.0
PRODID:-//Grossmont Healthcare District - ECPv6.15.20//NONSGML v1.0//EN
CALSCALE:GREGORIAN
METHOD:PUBLISH
X-WR-CALNAME:Grossmont Healthcare District
X-ORIGINAL-URL:https://www.grossmonthealthcare.org
X-WR-CALDESC:Events for Grossmont Healthcare District
REFRESH-INTERVAL;VALUE=DURATION:PT1H
X-Robots-Tag:noindex
X-PUBLISHED-TTL:PT1H
BEGIN:VTIMEZONE
TZID:America/Los_Angeles
BEGIN:DAYLIGHT
TZOFFSETFROM:-0800
TZOFFSETTO:-0700
TZNAME:PDT
DTSTART:20200308T100000
END:DAYLIGHT
BEGIN:STANDARD
TZOFFSETFROM:-0700
TZOFFSETTO:-0800
TZNAME:PST
DTSTART:20201101T090000
END:STANDARD
BEGIN:DAYLIGHT
TZOFFSETFROM:-0800
TZOFFSETTO:-0700
TZNAME:PDT
DTSTART:20210314T100000
END:DAYLIGHT
BEGIN:STANDARD
TZOFFSETFROM:-0700
TZOFFSETTO:-0800
TZNAME:PST
DTSTART:20211107T090000
END:STANDARD
BEGIN:DAYLIGHT
TZOFFSETFROM:-0800
TZOFFSETTO:-0700
TZNAME:PDT
DTSTART:20220313T100000
END:DAYLIGHT
BEGIN:STANDARD
TZOFFSETFROM:-0700
TZOFFSETTO:-0800
TZNAME:PST
DTSTART:20221106T090000
END:STANDARD
END:VTIMEZONE
BEGIN:VEVENT
DTSTART;TZID=America/Los_Angeles:20210605T140000
DTEND;TZID=America/Los_Angeles:20210605T180000
DTSTAMP:20260419T195900
CREATED:20210517T194833Z
LAST-MODIFIED:20210517T194833Z
UID:10000148-1622901600-1622916000@www.grossmonthealthcare.org
SUMMARY:Free Pfizer COVID-19 Vaccine – No Appointment Required
DESCRIPTION:Champions for Health\, a local nonprofit supporting unmet healthcare needs\, is hosting a free COVID-19 vaccine. No appointment and no insurance is required. This location will be giving out the Pfizer vaccine.
URL:https://www.grossmonthealthcare.org/event/free-pfizer-covid-19-vaccine-no-appointment-required-2/
LOCATION:Lemon Grove Academy Middle School\, 7866 Lincoln St\, Lemon Grove\, CA\, 91945
CATEGORIES:Community Events
ATTACH;FMTTYPE=image/png:https://www.grossmonthealthcare.org/wp-content/uploads/2021/05/Website-Events.png
END:VEVENT
BEGIN:VEVENT
DTSTART;TZID=America/Los_Angeles:20210605T090000
DTEND;TZID=America/Los_Angeles:20210605T130000
DTSTAMP:20260419T195900
CREATED:20210504T174439Z
LAST-MODIFIED:20210504T174439Z
UID:10000142-1622883600-1622898000@www.grossmonthealthcare.org
SUMMARY:Free Moderna COVID-19 Vaccine – No Appointment Required
DESCRIPTION:Champions for Health\, a local nonprofit supporting unmet healthcare needs\, is hosting a free COVID-19 vaccine. No appointment and no insurance is required. This location will be giving out the Moderna vaccine.
URL:https://www.grossmonthealthcare.org/event/free-moderna-covid-19-vaccine-no-appointment-required/
LOCATION:Lutheran Church\, 1430 Melody Lane\, El Cajon\, CA\, 92019
CATEGORIES:Community Events
ATTACH;FMTTYPE=image/png:https://www.grossmonthealthcare.org/wp-content/uploads/2021/05/Website-Events.png
END:VEVENT
BEGIN:VEVENT
DTSTART;TZID=America/Los_Angeles:20210603T110000
DTEND;TZID=America/Los_Angeles:20210603T113000
DTSTAMP:20260419T195900
CREATED:20210525T161432Z
LAST-MODIFIED:20210525T161432Z
UID:10000152-1622718000-1622719800@www.grossmonthealthcare.org
SUMMARY:Finance/Audit (REMOTE)
DESCRIPTION:
URL:https://www.grossmonthealthcare.org/event/finance-audit-remote-7/
CATEGORIES:Board
END:VEVENT
BEGIN:VEVENT
DTSTART;TZID=America/Los_Angeles:20210603T100000
DTEND;TZID=America/Los_Angeles:20210603T103000
DTSTAMP:20260419T195900
CREATED:20210525T161357Z
LAST-MODIFIED:20210525T161357Z
UID:10000151-1622714400-1622716200@www.grossmonthealthcare.org
SUMMARY:Community Grants & Sponsorships (REMOTE)
DESCRIPTION:
URL:https://www.grossmonthealthcare.org/event/community-grants-sponsorships-remote-7/
CATEGORIES:Board
END:VEVENT
BEGIN:VEVENT
DTSTART;TZID=America/Los_Angeles:20210528T124500
DTEND;TZID=America/Los_Angeles:20210528T131500
DTSTAMP:20260419T195900
CREATED:20210409T171345Z
LAST-MODIFIED:20210409T171345Z
UID:10000020-1622205900-1622207700@www.grossmonthealthcare.org
SUMMARY:Government\, Legal & Legislative Relations (REMOTE)
DESCRIPTION:
URL:https://www.grossmonthealthcare.org/event/government-legal-legislative-relations-remote-5/
CATEGORIES:Board
END:VEVENT
BEGIN:VEVENT
DTSTART;TZID=America/Los_Angeles:20210528T121500
DTEND;TZID=America/Los_Angeles:20210528T124500
DTSTAMP:20260419T195900
CREATED:20210409T171312Z
LAST-MODIFIED:20210525T152329Z
UID:10000019-1622204100-1622205900@www.grossmonthealthcare.org
SUMMARY:Facilities (CANCELLED)
DESCRIPTION:
URL:https://www.grossmonthealthcare.org/event/facilities-remote-5/
CATEGORIES:Board
END:VEVENT
BEGIN:VEVENT
DTSTART;TZID=America/Los_Angeles:20210527T123000
DTEND;TZID=America/Los_Angeles:20210527T170000
DTSTAMP:20260419T195900
CREATED:20210517T201005Z
LAST-MODIFIED:20210517T201005Z
UID:10000150-1622118600-1622134800@www.grossmonthealthcare.org
SUMMARY:A Matter of Balance Volunteer Coach Training
DESCRIPTION:Join the San Diego County Aging & Independence Services with two community co-chairs for the San Diego Fall Prevention Task Force\, Paige Colburn-Hargis and Beth Sullivan\, for a free 2-day Volunteer Coach Training from 12:30-5:00pm. Participants will be trained in both the in-person and virtual translations of A Matter of Balance. A Matter of Balance is an evidence-based program designed to help people manage concerns about falls and increase physical activity. All materials will be provided and attendance at both sessions is mandatory. For more information or to register\, please e-mail Paige at colburn-hargis.paige@scrippshealth.org.
URL:https://www.grossmonthealthcare.org/event/a-matter-of-balance-volunteer-coach-training/2021-05-27/
LOCATION:Remote Meeting
CATEGORIES:Community Events
ATTACH;FMTTYPE=image/png:https://www.grossmonthealthcare.org/wp-content/uploads/2021/05/Website-Events-24.png
END:VEVENT
BEGIN:VEVENT
DTSTART;TZID=America/Los_Angeles:20210527T090000
DTEND;TZID=America/Los_Angeles:20210527T133000
DTSTAMP:20260419T195900
CREATED:20210514T161348Z
LAST-MODIFIED:20210514T161348Z
UID:10000146-1622106000-1622122200@www.grossmonthealthcare.org
SUMMARY:Free COVID-19 Vaccine: Janssen (J&J)
DESCRIPTION:This location will be available in My Turn for vaccine appointments. There will be 108 Janssen (J&J) vaccines each day. Appointments are available from 9AM to 1:30PM.
URL:https://www.grossmonthealthcare.org/event/free-covid-19-vaccine-janssen-jj-3/
LOCATION:SD County Library\, 836 Kempton St\, Spring Valley\, CA\, 91977
CATEGORIES:Community Events
ATTACH;FMTTYPE=image/png:https://www.grossmonthealthcare.org/wp-content/uploads/2021/05/Website-Events.png
END:VEVENT
BEGIN:VEVENT
DTSTART;TZID=America/Los_Angeles:20210525T100000
DTEND;TZID=America/Los_Angeles:20210525T103000
DTSTAMP:20260419T195900
CREATED:20210409T171240Z
LAST-MODIFIED:20210409T171240Z
UID:10000018-1621936800-1621938600@www.grossmonthealthcare.org
SUMMARY:Strategic Plan/Risk Management Joint (REMOTE)
DESCRIPTION:
URL:https://www.grossmonthealthcare.org/event/strategic-plan-risk-management-joint-remote-3/
CATEGORIES:Board
END:VEVENT
BEGIN:VEVENT
DTSTART;TZID=America/Los_Angeles:20210524T123000
DTEND;TZID=America/Los_Angeles:20210524T170000
DTSTAMP:20260419T195900
CREATED:20210517T201005Z
LAST-MODIFIED:20210517T201005Z
UID:10000149-1621859400-1621875600@www.grossmonthealthcare.org
SUMMARY:A Matter of Balance Volunteer Coach Training
DESCRIPTION:Join the San Diego County Aging & Independence Services with two community co-chairs for the San Diego Fall Prevention Task Force\, Paige Colburn-Hargis and Beth Sullivan\, for a free 2-day Volunteer Coach Training from 12:30-5:00pm. Participants will be trained in both the in-person and virtual translations of A Matter of Balance. A Matter of Balance is an evidence-based program designed to help people manage concerns about falls and increase physical activity. All materials will be provided and attendance at both sessions is mandatory. For more information or to register\, please e-mail Paige at colburn-hargis.paige@scrippshealth.org.
URL:https://www.grossmonthealthcare.org/event/a-matter-of-balance-volunteer-coach-training/2021-05-24/
LOCATION:Remote Meeting
CATEGORIES:Community Events
ATTACH;FMTTYPE=image/png:https://www.grossmonthealthcare.org/wp-content/uploads/2021/05/Website-Events-24.png
END:VEVENT
BEGIN:VEVENT
DTSTART;TZID=America/Los_Angeles:20210524T090000
DTEND;TZID=America/Los_Angeles:20210524T133000
DTSTAMP:20260419T195900
CREATED:20210514T161239Z
LAST-MODIFIED:20210514T161239Z
UID:10000145-1621846800-1621863000@www.grossmonthealthcare.org
SUMMARY:Free COVID-19 Vaccine: Janssen (J&J)
DESCRIPTION:This location will be available in My Turn for vaccine appointments. There will be 108 Janssen (J&J) vaccines each day. Appointments are available from 9AM to 1:30PM.
URL:https://www.grossmonthealthcare.org/event/free-covid-19-vaccine-janssen-jj-2/
LOCATION:SD County Library\, 836 Kempton St\, Spring Valley\, CA\, 91977
CATEGORIES:Community Events
ATTACH;FMTTYPE=image/png:https://www.grossmonthealthcare.org/wp-content/uploads/2021/05/Website-Events.png
END:VEVENT
BEGIN:VEVENT
DTSTART;TZID=America/Los_Angeles:20210522T090000
DTEND;TZID=America/Los_Angeles:20210522T130000
DTSTAMP:20260419T195900
CREATED:20210504T173827Z
LAST-MODIFIED:20210520T162021Z
UID:10000140-1621674000-1621688400@www.grossmonthealthcare.org
SUMMARY:Free Pfizer COVID-19 Vaccine - No Appointment Required
DESCRIPTION:Champions for Health\, a local nonprofit supporting unmet healthcare needs\, is hosting a free COVID-19 vaccine. No appointment and no insurance is required. This location will be giving out the Pfizer vaccine.
URL:https://www.grossmonthealthcare.org/event/free-pfizer-covid-19-vaccine-no-appointment-required/2021-05-22/
LOCATION:Helix High School\, 7323 University Ave\, La Mesa\, CA\, 91942
CATEGORIES:Community Events
ATTACH;FMTTYPE=image/png:https://www.grossmonthealthcare.org/wp-content/uploads/2021/05/Website-Events.png
END:VEVENT
BEGIN:VEVENT
DTSTART;TZID=America/Los_Angeles:20210521T073000
DTEND;TZID=America/Los_Angeles:20210521T083000
DTSTAMP:20260419T195900
CREATED:20210409T171207Z
LAST-MODIFIED:20210409T171207Z
UID:10000017-1621582200-1621585800@www.grossmonthealthcare.org
SUMMARY:Board of Directors (REMOTE)
DESCRIPTION:
URL:https://www.grossmonthealthcare.org/event/board-of-directors-remote-10/
CATEGORIES:Board
END:VEVENT
BEGIN:VEVENT
DTSTART;TZID=America/Los_Angeles:20210520T180000
DTEND;TZID=America/Los_Angeles:20210520T193000
DTSTAMP:20260419T195900
CREATED:20210202T191223Z
LAST-MODIFIED:20210202T193550Z
UID:10000023-1621533600-1621539000@www.grossmonthealthcare.org
SUMMARY:Planning for Pregnancy Webinar
DESCRIPTION:There are many things to consider when planning for pregnancy: Should I change my diet? When should I start taking prenatal vitamins? How do I find the right doctors? We know you have many questions. That’s why we’re dedicated to providing you with answers and navigating you through the ways Sharp HealthCare can help you prepare for this exciting time. \nAttend this free online Planning for Pregnancy class where you’ll meet doctors including a Sharp-affiliated reproductive endocrinologist\, OBGYN and other experts. \nDuring this special webinar\, you will learn more about: \n\nPreparing your body for pregnancy\, including diet\, birth control and what to avoid\nHaving a baby later in life\nChoosing an OBGYN and pediatrician\nReproductive planning\nImplications of COVID on pregnancy\nDetermining your natural fertility schedule and optimizing your ability to get pregnant\nFertility challenges and treatments\, including how common conditions — such as endometriosis and fibroids can impact pregnancy\nSupport groups and classes at Sharp HealthCare\n\nThere will also be time for your questions as well.
URL:https://www.grossmonthealthcare.org/event/planning-for-pregnancy-webinar/2021-05-20/
LOCATION:Remote Meeting
CATEGORIES:Community Events
ATTACH;FMTTYPE=image/png:https://www.grossmonthealthcare.org/wp-content/uploads/2021/02/Website-Events-5.png
END:VEVENT
BEGIN:VEVENT
DTSTART;TZID=America/Los_Angeles:20210520T103000
DTEND;TZID=America/Los_Angeles:20210520T120000
DTSTAMP:20260419T195900
CREATED:20210504T175000Z
LAST-MODIFIED:20210504T175000Z
UID:10000143-1621506600-1621512000@www.grossmonthealthcare.org
SUMMARY:Free COVID-19 Vaccine – No Appointment Required
DESCRIPTION:Champions for Health\, a local nonprofit supporting unmet healthcare needs\, is hosting a free COVID-19 vaccine. No appointment and no insurance is required.
URL:https://www.grossmonthealthcare.org/event/free-covid-19-vaccine-no-appointment-required-2/
LOCATION:Volunteers in Medicine\, 1457 E. Madison Avenue\, El Cajon\, CA\, 92019
CATEGORIES:Community Events
ATTACH;FMTTYPE=image/png:https://www.grossmonthealthcare.org/wp-content/uploads/2021/05/Website-Events.png
END:VEVENT
BEGIN:VEVENT
DTSTART;TZID=America/Los_Angeles:20210520T090000
DTEND;TZID=America/Los_Angeles:20210520T133000
DTSTAMP:20260419T195900
CREATED:20210514T161043Z
LAST-MODIFIED:20210514T161244Z
UID:10000144-1621501200-1621517400@www.grossmonthealthcare.org
SUMMARY:Free COVID-19 Vaccine: Janssen (J&J)
DESCRIPTION:This location will be available in My Turn for vaccine appointments. There will be 108 Janssen (J&J) vaccines each day. Appointments are available from 9AM to 1:30PM.
URL:https://www.grossmonthealthcare.org/event/free-covid-19-vaccine-janssen-jj/
LOCATION:Joan MacQueen Middle School\, 2001 Tavern Rd\, Alpine\, CA\, 91901
CATEGORIES:Community Events
ATTACH;FMTTYPE=image/png:https://www.grossmonthealthcare.org/wp-content/uploads/2021/05/Website-Events.png
END:VEVENT
BEGIN:VEVENT
DTSTART;TZID=America/Los_Angeles:20210519T113000
DTEND;TZID=America/Los_Angeles:20210519T120000
DTSTAMP:20260419T195900
CREATED:20210409T171134Z
LAST-MODIFIED:20210409T171134Z
UID:10000016-1621423800-1621425600@www.grossmonthealthcare.org
SUMMARY:Policies & Procedures (REMOTE)
DESCRIPTION:
URL:https://www.grossmonthealthcare.org/event/policies-procedures-remote-5/
CATEGORIES:Board
END:VEVENT
BEGIN:VEVENT
DTSTART;TZID=America/Los_Angeles:20210519T103000
DTEND;TZID=America/Los_Angeles:20210519T110000
DTSTAMP:20260419T195900
CREATED:20210409T171102Z
LAST-MODIFIED:20210409T171522Z
UID:10000015-1621420200-1621422000@www.grossmonthealthcare.org
SUMMARY:Public Relations (REMOTE)
DESCRIPTION:
URL:https://www.grossmonthealthcare.org/event/public-relations-remote/
CATEGORIES:Board
END:VEVENT
BEGIN:VEVENT
DTSTART;TZID=America/Los_Angeles:20210514T133000
DTEND;TZID=America/Los_Angeles:20210514T170000
DTSTAMP:20260419T195900
CREATED:20210514T163548Z
LAST-MODIFIED:20210514T163622Z
UID:10000147-1620999000-1621011600@www.grossmonthealthcare.org
SUMMARY:Free COVID-19 Vaccine – No Appointment Required
DESCRIPTION:Champions for Health\, a local nonprofit supporting unmet healthcare needs\, is hosting a free COVID-19 vaccine. No appointment and no insurance is required.
URL:https://www.grossmonthealthcare.org/event/free-covid-19-vaccine-no-appointment-required-3/
LOCATION:El Cajon Valley High School\, 1035 E Madison Ave\, El Cajon\, CA\, 92021
CATEGORIES:Community Events
ATTACH;FMTTYPE=image/png:https://www.grossmonthealthcare.org/wp-content/uploads/2021/05/Website-Events.png
END:VEVENT
BEGIN:VEVENT
DTSTART;TZID=America/Los_Angeles:20210511T170000
DTEND;TZID=America/Los_Angeles:20210511T180000
DTSTAMP:20260419T195900
CREATED:20210426T231219Z
LAST-MODIFIED:20210426T231219Z
UID:10000139-1620752400-1620756000@www.grossmonthealthcare.org
SUMMARY:Board of Directors (Special) (REMOTE)
DESCRIPTION:
URL:https://www.grossmonthealthcare.org/event/board-of-directors-special-remote-2/
CATEGORIES:Board
END:VEVENT
BEGIN:VEVENT
DTSTART;TZID=America/Los_Angeles:20210510T124500
DTEND;TZID=America/Los_Angeles:20210510T131500
DTSTAMP:20260419T195900
CREATED:20210409T171029Z
LAST-MODIFIED:20210409T171029Z
UID:10000014-1620650700-1620652500@www.grossmonthealthcare.org
SUMMARY:Library Operations (REMOTE)
DESCRIPTION:
URL:https://www.grossmonthealthcare.org/event/library-operations-remote-3/
CATEGORIES:Board
END:VEVENT
BEGIN:VEVENT
DTSTART;TZID=America/Los_Angeles:20210510T121500
DTEND;TZID=America/Los_Angeles:20210510T124500
DTSTAMP:20260419T195900
CREATED:20210409T170945Z
LAST-MODIFIED:20210409T171004Z
UID:10000013-1620648900-1620650700@www.grossmonthealthcare.org
SUMMARY:Investment (REMOTE)
DESCRIPTION:
URL:https://www.grossmonthealthcare.org/event/investment-remote-5/
CATEGORIES:Board
END:VEVENT
BEGIN:VEVENT
DTSTART;TZID=America/Los_Angeles:20210506T153000
DTEND;TZID=America/Los_Angeles:20210506T170000
DTSTAMP:20260419T195901
CREATED:20210426T154132Z
LAST-MODIFIED:20210426T154132Z
UID:10000137-1620315000-1620320400@www.grossmonthealthcare.org
SUMMARY:Mind Out Loud
DESCRIPTION:Join the Wellness Together School Mental Health\, in partnership with the San Diego County Office of Education and the California Department of Education from 3:30pm-5:00pm for a free three-day virtual event. Middle and high school students will convene and boldly discuss mental health\, connect with peers across California\, hear from engaging speakers to become equipped with practical tools for wellness\, increase mental health awareness and advocacy for themselves and friends\, learn about suicide prevention\, and reduce stigma associated with mental health. \nMind Out Loud will inspire you to live a transformed life – to impact local communities and the world knowing that YOUR voice can be heard!
URL:https://www.grossmonthealthcare.org/event/mind-out-loud/2021-05-06/
LOCATION:Remote Meeting
CATEGORIES:Community Events
ATTACH;FMTTYPE=image/png:https://www.grossmonthealthcare.org/wp-content/uploads/2021/04/Article-Photos-6.png
END:VEVENT
BEGIN:VEVENT
DTSTART;TZID=America/Los_Angeles:20210506T110000
DTEND;TZID=America/Los_Angeles:20210506T113000
DTSTAMP:20260419T195901
CREATED:20210409T170918Z
LAST-MODIFIED:20210409T170918Z
UID:10000012-1620298800-1620300600@www.grossmonthealthcare.org
SUMMARY:Finance/Audit (REMOTE)
DESCRIPTION:
URL:https://www.grossmonthealthcare.org/event/finance-audit-remote-4/
CATEGORIES:Board
END:VEVENT
BEGIN:VEVENT
DTSTART;TZID=America/Los_Angeles:20210506T100000
DTEND;TZID=America/Los_Angeles:20210506T103000
DTSTAMP:20260419T195901
CREATED:20210409T170850Z
LAST-MODIFIED:20210409T170850Z
UID:10000011-1620295200-1620297000@www.grossmonthealthcare.org
SUMMARY:Community Grants & Sponsorships (REMOTE)
DESCRIPTION:
URL:https://www.grossmonthealthcare.org/event/community-grants-sponsorships-remote-5/
CATEGORIES:Board
END:VEVENT
BEGIN:VEVENT
DTSTART;TZID=America/Los_Angeles:20210505T153000
DTEND;TZID=America/Los_Angeles:20210505T170000
DTSTAMP:20260419T195901
CREATED:20210426T154132Z
LAST-MODIFIED:20210426T154132Z
UID:10000136-1620228600-1620234000@www.grossmonthealthcare.org
SUMMARY:Mind Out Loud
DESCRIPTION:Join the Wellness Together School Mental Health\, in partnership with the San Diego County Office of Education and the California Department of Education from 3:30pm-5:00pm for a free three-day virtual event. Middle and high school students will convene and boldly discuss mental health\, connect with peers across California\, hear from engaging speakers to become equipped with practical tools for wellness\, increase mental health awareness and advocacy for themselves and friends\, learn about suicide prevention\, and reduce stigma associated with mental health. \nMind Out Loud will inspire you to live a transformed life – to impact local communities and the world knowing that YOUR voice can be heard!
URL:https://www.grossmonthealthcare.org/event/mind-out-loud/2021-05-05/
LOCATION:Remote Meeting
CATEGORIES:Community Events
ATTACH;FMTTYPE=image/png:https://www.grossmonthealthcare.org/wp-content/uploads/2021/04/Article-Photos-6.png
END:VEVENT
BEGIN:VEVENT
DTSTART;TZID=America/Los_Angeles:20210504T173000
DTEND;TZID=America/Los_Angeles:20210504T190000
DTSTAMP:20260419T195901
CREATED:20210426T152810Z
LAST-MODIFIED:20210426T152817Z
UID:10000134-1620149400-1620154800@www.grossmonthealthcare.org
SUMMARY:East County Justice Coalition
DESCRIPTION:Join CSA San Diego County from 5:30pm-7:30pm for a resident-organized community forum on the redistricting process and COVID-19 access for BIPOC communities in East County. Listen\, learn\, and take action to protect your vote and protect our community’s health. \n* Access to COVID-19 RESOURCES for everyone\n* Right to quality education for All CHILDREN during and after the pandemic\n*Make Your Vote Count in 2022! Elections\, Redistricting\, Voter Participation & Civic Engagement\n\nSponsored by the East County Justice Coalition and Justice Overcoming Boundaries\, Borderlands for Equity\nFor more info\, please contact:\nEstela De Los Rios\, estela@c4sa.org\nAnne Barron\, anne@prcsd.org\nMejgan Afshan\, mejgan.afshan@gmail.com
URL:https://www.grossmonthealthcare.org/event/east-county-justice-coalition/
LOCATION:Remote Meeting
CATEGORIES:Community Events
ATTACH;FMTTYPE=image/png:https://www.grossmonthealthcare.org/wp-content/uploads/2021/04/Article-Photos-5.png
END:VEVENT
BEGIN:VEVENT
DTSTART;TZID=America/Los_Angeles:20210504T153000
DTEND;TZID=America/Los_Angeles:20210504T170000
DTSTAMP:20260419T195901
CREATED:20210426T154132Z
LAST-MODIFIED:20210426T154132Z
UID:10000135-1620142200-1620147600@www.grossmonthealthcare.org
SUMMARY:Mind Out Loud
DESCRIPTION:Join the Wellness Together School Mental Health\, in partnership with the San Diego County Office of Education and the California Department of Education from 3:30pm-5:00pm for a free three-day virtual event. Middle and high school students will convene and boldly discuss mental health\, connect with peers across California\, hear from engaging speakers to become equipped with practical tools for wellness\, increase mental health awareness and advocacy for themselves and friends\, learn about suicide prevention\, and reduce stigma associated with mental health. \nMind Out Loud will inspire you to live a transformed life – to impact local communities and the world knowing that YOUR voice can be heard!
URL:https://www.grossmonthealthcare.org/event/mind-out-loud/2021-05-04/
LOCATION:Remote Meeting
CATEGORIES:Community Events
ATTACH;FMTTYPE=image/png:https://www.grossmonthealthcare.org/wp-content/uploads/2021/04/Article-Photos-6.png
END:VEVENT
BEGIN:VEVENT
DTSTART;TZID=America/Los_Angeles:20210503T073000
DTEND;TZID=America/Los_Angeles:20210503T083000
DTSTAMP:20260419T195901
CREATED:20210409T170816Z
LAST-MODIFIED:20210409T170816Z
UID:10000113-1620027000-1620030600@www.grossmonthealthcare.org
SUMMARY:Board of Directors (REMOTE)
DESCRIPTION:
URL:https://www.grossmonthealthcare.org/event/board-of-directors-remote-9/
CATEGORIES:Board
END:VEVENT
BEGIN:VEVENT
DTSTART;TZID=America/Los_Angeles:20210501T160000
DTEND;TZID=America/Los_Angeles:20210501T173000
DTSTAMP:20260419T195901
CREATED:20210426T164330Z
LAST-MODIFIED:20210426T164330Z
UID:10000138-1619884800-1619890200@www.grossmonthealthcare.org
SUMMARY:The UPS Store's 50\,000 Book Giveaway for Toys for Tots Literacy Program
DESCRIPTION:The UPS Store is proud to support the Toys for Tots Literacy Program teaming up with the San Diego Council on Literacy as they distribute 50\,000 FREE books to underserved children in the San Diego area. This event is open to the public and all books are free to those who can attend. \nA coupon for 15% off The UPS Store’s packing services will also be included with each book. \nThe UPS Store will distribute books to people in cars and to people that prefer to walk up to the bus to accommodate everyone’s comfortability with COVID-19 safety measures. \nAfter the events\, the San Diego Council on Literacy will keep any remaining books to distribute as they see fit throughout the year.
URL:https://www.grossmonthealthcare.org/event/the-ups-stores-50000-book-giveaway-for-toys-for-tots-literacy-program/
LOCATION:1145 Redwood Ave\, El Cajon\, CA 92019\, 1145 Redwood Ave\, El Cajon\, CA\, 92019
CATEGORIES:Community Events
ATTACH;FMTTYPE=image/png:https://www.grossmonthealthcare.org/wp-content/uploads/2021/04/Article-Photos-7.png
END:VEVENT
END:VCALENDAR