BEGIN:VCALENDAR
VERSION:2.0
PRODID:-//Grossmont Healthcare District - ECPv6.15.20//NONSGML v1.0//EN
CALSCALE:GREGORIAN
METHOD:PUBLISH
X-WR-CALNAME:Grossmont Healthcare District
X-ORIGINAL-URL:https://www.grossmonthealthcare.org
X-WR-CALDESC:Events for Grossmont Healthcare District
REFRESH-INTERVAL;VALUE=DURATION:PT1H
X-Robots-Tag:noindex
X-PUBLISHED-TTL:PT1H
BEGIN:VTIMEZONE
TZID:America/Los_Angeles
BEGIN:DAYLIGHT
TZOFFSETFROM:-0800
TZOFFSETTO:-0700
TZNAME:PDT
DTSTART:20200308T100000
END:DAYLIGHT
BEGIN:STANDARD
TZOFFSETFROM:-0700
TZOFFSETTO:-0800
TZNAME:PST
DTSTART:20201101T090000
END:STANDARD
BEGIN:DAYLIGHT
TZOFFSETFROM:-0800
TZOFFSETTO:-0700
TZNAME:PDT
DTSTART:20210314T100000
END:DAYLIGHT
BEGIN:STANDARD
TZOFFSETFROM:-0700
TZOFFSETTO:-0800
TZNAME:PST
DTSTART:20211107T090000
END:STANDARD
BEGIN:DAYLIGHT
TZOFFSETFROM:-0800
TZOFFSETTO:-0700
TZNAME:PDT
DTSTART:20220313T100000
END:DAYLIGHT
BEGIN:STANDARD
TZOFFSETFROM:-0700
TZOFFSETTO:-0800
TZNAME:PST
DTSTART:20221106T090000
END:STANDARD
END:VTIMEZONE
BEGIN:VEVENT
DTSTART;TZID=America/Los_Angeles:20210721T113000
DTEND;TZID=America/Los_Angeles:20210721T120000
DTSTAMP:20260419T170353
CREATED:20210409T175952Z
LAST-MODIFIED:20210716T233500Z
UID:10000130-1626867000-1626868800@www.grossmonthealthcare.org
SUMMARY:Policies & Procedures (CANCELLED)
DESCRIPTION:
URL:https://www.grossmonthealthcare.org/event/policies-procedures-remote-7/
LOCATION:CA
CATEGORIES:Board
END:VEVENT
BEGIN:VEVENT
DTSTART;TZID=America/Los_Angeles:20210721T103000
DTEND;TZID=America/Los_Angeles:20210721T110000
DTSTAMP:20260419T170353
CREATED:20210409T175921Z
LAST-MODIFIED:20210628T152546Z
UID:10000127-1626863400-1626865200@www.grossmonthealthcare.org
SUMMARY:Public Relations
DESCRIPTION:
URL:https://www.grossmonthealthcare.org/event/public-relations-remote-3/
LOCATION:CA
CATEGORIES:Board
END:VEVENT
BEGIN:VEVENT
DTSTART;TZID=America/Los_Angeles:20210720T080000
DTEND;TZID=America/Los_Angeles:20210720T120000
DTSTAMP:20260419T170353
CREATED:20210628T152524Z
LAST-MODIFIED:20210628T152524Z
UID:10000164-1626768000-1626782400@www.grossmonthealthcare.org
SUMMARY:GHD Strategic Planning Workshop
DESCRIPTION:
URL:https://www.grossmonthealthcare.org/event/ghd-strategic-planning-workshop-2/
LOCATION:CA
CATEGORIES:Board
END:VEVENT
BEGIN:VEVENT
DTSTART;TZID=America/Los_Angeles:20210719T080000
DTEND;TZID=America/Los_Angeles:20210719T120000
DTSTAMP:20260419T170353
CREATED:20210628T152502Z
LAST-MODIFIED:20210628T152502Z
UID:10000162-1626681600-1626696000@www.grossmonthealthcare.org
SUMMARY:GHD Strategic Planning Workshop
DESCRIPTION:
URL:https://www.grossmonthealthcare.org/event/ghd-strategic-planning-workshop/
LOCATION:CA
CATEGORIES:Board
END:VEVENT
BEGIN:VEVENT
DTSTART;TZID=America/Los_Angeles:20210716T073000
DTEND;TZID=America/Los_Angeles:20210716T083000
DTSTAMP:20260419T170353
CREATED:20210409T175838Z
LAST-MODIFIED:20210628T152421Z
UID:10000124-1626420600-1626424200@www.grossmonthealthcare.org
SUMMARY:Board of Directors
DESCRIPTION:
URL:https://www.grossmonthealthcare.org/event/board-of-directors-remote-14/
LOCATION:CA
CATEGORIES:Board
END:VEVENT
BEGIN:VEVENT
DTSTART;TZID=America/Los_Angeles:20210714T100000
DTEND;TZID=America/Los_Angeles:20210714T103000
DTSTAMP:20260419T170353
CREATED:20210623T173126Z
LAST-MODIFIED:20210623T173126Z
UID:10000160-1626256800-1626258600@www.grossmonthealthcare.org
SUMMARY:Strategic Plan/Risk Management Joint
DESCRIPTION:
URL:https://www.grossmonthealthcare.org/event/strategic-plan-risk-management-joint/
LOCATION:CA
CATEGORIES:Board
END:VEVENT
BEGIN:VEVENT
DTSTART;TZID=America/Los_Angeles:20210712T124500
DTEND;TZID=America/Los_Angeles:20210712T131500
DTSTAMP:20260419T170353
CREATED:20210409T175807Z
LAST-MODIFIED:20210628T152341Z
UID:10000121-1626093900-1626095700@www.grossmonthealthcare.org
SUMMARY:Library Operations
DESCRIPTION:
URL:https://www.grossmonthealthcare.org/event/library-operations-remote-5/
LOCATION:CA
CATEGORIES:Board
END:VEVENT
BEGIN:VEVENT
DTSTART;TZID=America/Los_Angeles:20210712T121500
DTEND;TZID=America/Los_Angeles:20210712T124500
DTSTAMP:20260419T170353
CREATED:20210409T175736Z
LAST-MODIFIED:20210708T150040Z
UID:10000120-1626092100-1626093900@www.grossmonthealthcare.org
SUMMARY:Investment (CANCELLED)
DESCRIPTION:
URL:https://www.grossmonthealthcare.org/event/investment-remote-6/
LOCATION:CA
CATEGORIES:Board
END:VEVENT
BEGIN:VEVENT
DTSTART;TZID=America/Los_Angeles:20210708T100000
DTEND;TZID=America/Los_Angeles:20210708T103000
DTSTAMP:20260419T170353
CREATED:20210525T162932Z
LAST-MODIFIED:20210628T152255Z
UID:10000054-1625738400-1625740200@www.grossmonthealthcare.org
SUMMARY:Community Grants & Sponsorships
DESCRIPTION:
URL:https://www.grossmonthealthcare.org/event/community-grants-sponsorships-remote-8/
LOCATION:CA
CATEGORIES:Board
END:VEVENT
BEGIN:VEVENT
DTSTART;TZID=America/Los_Angeles:20210706T073000
DTEND;TZID=America/Los_Angeles:20210706T083000
DTSTAMP:20260419T170353
CREATED:20210525T163030Z
LAST-MODIFIED:20210628T152237Z
UID:10000057-1625556600-1625560200@www.grossmonthealthcare.org
SUMMARY:Board of Directors
DESCRIPTION:
URL:https://www.grossmonthealthcare.org/event/board-of-directors-remote-17/
LOCATION:CA
CATEGORIES:Board
END:VEVENT
BEGIN:VEVENT
DTSTART;TZID=America/Los_Angeles:20210701T110000
DTEND;TZID=America/Los_Angeles:20210701T113000
DTSTAMP:20260419T170353
CREATED:20210525T163004Z
LAST-MODIFIED:20210628T170454Z
UID:10000055-1625137200-1625139000@www.grossmonthealthcare.org
SUMMARY:Finance/Audit (CANCELLED)
DESCRIPTION:
URL:https://www.grossmonthealthcare.org/event/finance-audit-remote-8/
LOCATION:CA
CATEGORIES:Board
END:VEVENT
BEGIN:VEVENT
DTSTART;TZID=America/Los_Angeles:20210625T124500
DTEND;TZID=America/Los_Angeles:20210625T131500
DTSTAMP:20260419T170353
CREATED:20210525T162905Z
LAST-MODIFIED:20210525T162905Z
UID:10000052-1624625100-1624626900@www.grossmonthealthcare.org
SUMMARY:Government\, Legal & Legislative Relations (REMOTE)
DESCRIPTION:
URL:https://www.grossmonthealthcare.org/event/government-legal-legislative-relations-remote-8/
LOCATION:CA
CATEGORIES:Board
END:VEVENT
BEGIN:VEVENT
DTSTART;TZID=America/Los_Angeles:20210625T121500
DTEND;TZID=America/Los_Angeles:20210625T124500
DTSTAMP:20260419T170353
CREATED:20210525T162823Z
LAST-MODIFIED:20210525T162823Z
UID:10000050-1624623300-1624625100@www.grossmonthealthcare.org
SUMMARY:Facilities (REMOTE)
DESCRIPTION:
URL:https://www.grossmonthealthcare.org/event/facilities-remote-8/
LOCATION:CA
CATEGORIES:Board
END:VEVENT
BEGIN:VEVENT
DTSTART;TZID=America/Los_Angeles:20210622T100000
DTEND;TZID=America/Los_Angeles:20210622T103000
DTSTAMP:20260419T170353
CREATED:20210525T162756Z
LAST-MODIFIED:20210525T162756Z
UID:10000048-1624356000-1624357800@www.grossmonthealthcare.org
SUMMARY:Strategic Plan/Risk Management Joint (REMOTE)
DESCRIPTION:
URL:https://www.grossmonthealthcare.org/event/strategic-plan-risk-management-joint-remote-6/
LOCATION:CA
CATEGORIES:Board
END:VEVENT
BEGIN:VEVENT
DTSTART;TZID=America/Los_Angeles:20210622T100000
DTEND;TZID=America/Los_Angeles:20210622T103000
DTSTAMP:20260419T170353
CREATED:20210409T175027Z
LAST-MODIFIED:20210409T175027Z
UID:10000117-1624356000-1624357800@www.grossmonthealthcare.org
SUMMARY:Strategic Plan/Risk Management Joint (REMOTE)
DESCRIPTION:
URL:https://www.grossmonthealthcare.org/event/strategic-plan-risk-management-joint-remote-4/
LOCATION:CA
CATEGORIES:Board
END:VEVENT
BEGIN:VEVENT
DTSTART;TZID=America/Los_Angeles:20210618T100000
DTEND;TZID=America/Los_Angeles:20210618T113000
DTSTAMP:20260419T170353
CREATED:20210202T191718Z
LAST-MODIFIED:20210202T193149Z
UID:10000026-1624010400-1624015800@www.grossmonthealthcare.org
SUMMARY:Managing Sleep and Fatigue Workshop for Cancer Patients
DESCRIPTION:Please note that classes will be held virtually until further notice. You can attend via your phone\, computer or mobile device. Please provide your email address during registration. An email will be sent to you with the login/call-in information by the morning of the workshop. \nThis free online workshop is designed to help cancer patients and their loved ones with fatigue and sleep issues that are common side effects both during and after treatment. \nOur cancer patient navigator will provide tips and strategies to teach you how to relax\, improve your sleep and manage persistent fatigue. \nAdvanced registration is required. Your loved ones are also encouraged to attend.
URL:https://www.grossmonthealthcare.org/event/managing-sleep-and-fatigue-workshop-for-cancer-patients/2021-06-18/
LOCATION:Remote Meeting
CATEGORIES:Community Events
ATTACH;FMTTYPE=image/png:https://www.grossmonthealthcare.org/wp-content/uploads/2021/02/Website-Events-4.png
END:VEVENT
BEGIN:VEVENT
DTSTART;TZID=America/Los_Angeles:20210618T083000
DTEND;TZID=America/Los_Angeles:20210618T090000
DTSTAMP:20260419T170353
CREATED:20210617T161530Z
LAST-MODIFIED:20210617T161621Z
UID:10000059-1624005000-1624006800@www.grossmonthealthcare.org
SUMMARY:Finance/Audit (REMOTE)
DESCRIPTION:
URL:https://www.grossmonthealthcare.org/event/finance-audit-2/
LOCATION:CA
CATEGORIES:Board
END:VEVENT
BEGIN:VEVENT
DTSTART;TZID=America/Los_Angeles:20210618T073000
DTEND;TZID=America/Los_Angeles:20210618T083000
DTSTAMP:20260419T170353
CREATED:20210525T162632Z
LAST-MODIFIED:20210525T162632Z
UID:10000046-1624001400-1624005000@www.grossmonthealthcare.org
SUMMARY:Board of Directors (REMOTE)
DESCRIPTION:
URL:https://www.grossmonthealthcare.org/event/board-of-directors-remote-16/
LOCATION:CA
CATEGORIES:Board
END:VEVENT
BEGIN:VEVENT
DTSTART;TZID=America/Los_Angeles:20210616T133000
DTEND;TZID=America/Los_Angeles:20210616T140000
DTSTAMP:20260419T170353
CREATED:20210409T174900Z
LAST-MODIFIED:20210610T175515Z
UID:10000115-1623850200-1623852000@www.grossmonthealthcare.org
SUMMARY:Public Relations (REMOTE)
DESCRIPTION:
URL:https://www.grossmonthealthcare.org/event/public-relations-remote-2/
LOCATION:CA
CATEGORIES:Board
END:VEVENT
BEGIN:VEVENT
DTSTART;TZID=America/Los_Angeles:20210616T103000
DTEND;TZID=America/Los_Angeles:20210616T110000
DTSTAMP:20260419T170353
CREATED:20210525T162601Z
LAST-MODIFIED:20210610T175835Z
UID:10000044-1623839400-1623841200@www.grossmonthealthcare.org
SUMMARY:Policies & Procedures (REMOTE)
DESCRIPTION:
URL:https://www.grossmonthealthcare.org/event/policies-procedures-remote-8/
LOCATION:CA
CATEGORIES:Board
END:VEVENT
BEGIN:VEVENT
DTSTART;TZID=America/Los_Angeles:20210614T124500
DTEND;TZID=America/Los_Angeles:20210614T131500
DTSTAMP:20260419T170353
CREATED:20210525T162454Z
LAST-MODIFIED:20210607T183947Z
UID:10000042-1623674700-1623676500@www.grossmonthealthcare.org
SUMMARY:Library Operations (CANCELLED)
DESCRIPTION:
URL:https://www.grossmonthealthcare.org/event/library-operations-remote-6/
LOCATION:CA
CATEGORIES:Board
END:VEVENT
BEGIN:VEVENT
DTSTART;TZID=America/Los_Angeles:20210614T121500
DTEND;TZID=America/Los_Angeles:20210614T124500
DTSTAMP:20260419T170353
CREATED:20210525T162425Z
LAST-MODIFIED:20210525T162425Z
UID:10000155-1623672900-1623674700@www.grossmonthealthcare.org
SUMMARY:Investment (REMOTE)
DESCRIPTION:
URL:https://www.grossmonthealthcare.org/event/investment-remote-7/
LOCATION:CA
CATEGORIES:Board
END:VEVENT
BEGIN:VEVENT
DTSTART;TZID=America/Los_Angeles:20210612T090000
DTEND;TZID=America/Los_Angeles:20210612T130000
DTSTAMP:20260419T170353
CREATED:20210504T173827Z
LAST-MODIFIED:20210520T162021Z
UID:10000141-1623488400-1623502800@www.grossmonthealthcare.org
SUMMARY:Free Pfizer COVID-19 Vaccine - No Appointment Required
DESCRIPTION:Champions for Health\, a local nonprofit supporting unmet healthcare needs\, is hosting a free COVID-19 vaccine. No appointment and no insurance is required. This location will be giving out the Pfizer vaccine.
URL:https://www.grossmonthealthcare.org/event/free-pfizer-covid-19-vaccine-no-appointment-required/2021-06-12/
LOCATION:Helix High School\, 7323 University Ave\, La Mesa\, CA\, 91942
CATEGORIES:Community Events
ATTACH;FMTTYPE=image/png:https://www.grossmonthealthcare.org/wp-content/uploads/2021/05/Website-Events.png
END:VEVENT
BEGIN:VEVENT
DTSTART;TZID=America/Los_Angeles:20210607T073000
DTEND;TZID=America/Los_Angeles:20210607T083000
DTSTAMP:20260419T170353
CREATED:20210525T162352Z
LAST-MODIFIED:20210525T162352Z
UID:10000153-1623051000-1623054600@www.grossmonthealthcare.org
SUMMARY:Board of Directors (REMOTE)
DESCRIPTION:
URL:https://www.grossmonthealthcare.org/event/board-of-directors-remote-15/
LOCATION:CA
CATEGORIES:Board
END:VEVENT
BEGIN:VEVENT
DTSTART;TZID=America/Los_Angeles:20210605T140000
DTEND;TZID=America/Los_Angeles:20210605T180000
DTSTAMP:20260419T170353
CREATED:20210517T194833Z
LAST-MODIFIED:20210517T194833Z
UID:10000148-1622901600-1622916000@www.grossmonthealthcare.org
SUMMARY:Free Pfizer COVID-19 Vaccine – No Appointment Required
DESCRIPTION:Champions for Health\, a local nonprofit supporting unmet healthcare needs\, is hosting a free COVID-19 vaccine. No appointment and no insurance is required. This location will be giving out the Pfizer vaccine.
URL:https://www.grossmonthealthcare.org/event/free-pfizer-covid-19-vaccine-no-appointment-required-2/
LOCATION:Lemon Grove Academy Middle School\, 7866 Lincoln St\, Lemon Grove\, CA\, 91945
CATEGORIES:Community Events
ATTACH;FMTTYPE=image/png:https://www.grossmonthealthcare.org/wp-content/uploads/2021/05/Website-Events.png
END:VEVENT
BEGIN:VEVENT
DTSTART;TZID=America/Los_Angeles:20210605T090000
DTEND;TZID=America/Los_Angeles:20210605T130000
DTSTAMP:20260419T170353
CREATED:20210504T174439Z
LAST-MODIFIED:20210504T174439Z
UID:10000142-1622883600-1622898000@www.grossmonthealthcare.org
SUMMARY:Free Moderna COVID-19 Vaccine – No Appointment Required
DESCRIPTION:Champions for Health\, a local nonprofit supporting unmet healthcare needs\, is hosting a free COVID-19 vaccine. No appointment and no insurance is required. This location will be giving out the Moderna vaccine.
URL:https://www.grossmonthealthcare.org/event/free-moderna-covid-19-vaccine-no-appointment-required/
LOCATION:Lutheran Church\, 1430 Melody Lane\, El Cajon\, CA\, 92019
CATEGORIES:Community Events
ATTACH;FMTTYPE=image/png:https://www.grossmonthealthcare.org/wp-content/uploads/2021/05/Website-Events.png
END:VEVENT
BEGIN:VEVENT
DTSTART;TZID=America/Los_Angeles:20210603T110000
DTEND;TZID=America/Los_Angeles:20210603T113000
DTSTAMP:20260419T170353
CREATED:20210525T161432Z
LAST-MODIFIED:20210525T161432Z
UID:10000152-1622718000-1622719800@www.grossmonthealthcare.org
SUMMARY:Finance/Audit (REMOTE)
DESCRIPTION:
URL:https://www.grossmonthealthcare.org/event/finance-audit-remote-7/
LOCATION:CA
CATEGORIES:Board
END:VEVENT
BEGIN:VEVENT
DTSTART;TZID=America/Los_Angeles:20210603T100000
DTEND;TZID=America/Los_Angeles:20210603T103000
DTSTAMP:20260419T170353
CREATED:20210525T161357Z
LAST-MODIFIED:20210525T161357Z
UID:10000151-1622714400-1622716200@www.grossmonthealthcare.org
SUMMARY:Community Grants & Sponsorships (REMOTE)
DESCRIPTION:
URL:https://www.grossmonthealthcare.org/event/community-grants-sponsorships-remote-7/
LOCATION:CA
CATEGORIES:Board
END:VEVENT
BEGIN:VEVENT
DTSTART;TZID=America/Los_Angeles:20210528T124500
DTEND;TZID=America/Los_Angeles:20210528T131500
DTSTAMP:20260419T170353
CREATED:20210409T171345Z
LAST-MODIFIED:20210409T171345Z
UID:10000020-1622205900-1622207700@www.grossmonthealthcare.org
SUMMARY:Government\, Legal & Legislative Relations (REMOTE)
DESCRIPTION:
URL:https://www.grossmonthealthcare.org/event/government-legal-legislative-relations-remote-5/
LOCATION:CA
CATEGORIES:Board
END:VEVENT
BEGIN:VEVENT
DTSTART;TZID=America/Los_Angeles:20210528T121500
DTEND;TZID=America/Los_Angeles:20210528T124500
DTSTAMP:20260419T170353
CREATED:20210409T171312Z
LAST-MODIFIED:20210525T152329Z
UID:10000019-1622204100-1622205900@www.grossmonthealthcare.org
SUMMARY:Facilities (CANCELLED)
DESCRIPTION:
URL:https://www.grossmonthealthcare.org/event/facilities-remote-5/
LOCATION:CA
CATEGORIES:Board
END:VEVENT
END:VCALENDAR