BEGIN:VCALENDAR
VERSION:2.0
PRODID:-//Grossmont Healthcare District - ECPv6.15.20//NONSGML v1.0//EN
CALSCALE:GREGORIAN
METHOD:PUBLISH
X-WR-CALNAME:Grossmont Healthcare District
X-ORIGINAL-URL:https://www.grossmonthealthcare.org
X-WR-CALDESC:Events for Grossmont Healthcare District
REFRESH-INTERVAL;VALUE=DURATION:PT1H
X-Robots-Tag:noindex
X-PUBLISHED-TTL:PT1H
BEGIN:VTIMEZONE
TZID:America/Los_Angeles
BEGIN:DAYLIGHT
TZOFFSETFROM:-0800
TZOFFSETTO:-0700
TZNAME:PDT
DTSTART:20250309T100000
END:DAYLIGHT
BEGIN:STANDARD
TZOFFSETFROM:-0700
TZOFFSETTO:-0800
TZNAME:PST
DTSTART:20251102T090000
END:STANDARD
BEGIN:DAYLIGHT
TZOFFSETFROM:-0800
TZOFFSETTO:-0700
TZNAME:PDT
DTSTART:20260308T100000
END:DAYLIGHT
BEGIN:STANDARD
TZOFFSETFROM:-0700
TZOFFSETTO:-0800
TZNAME:PST
DTSTART:20261101T090000
END:STANDARD
BEGIN:DAYLIGHT
TZOFFSETFROM:-0800
TZOFFSETTO:-0700
TZNAME:PDT
DTSTART:20270314T100000
END:DAYLIGHT
BEGIN:STANDARD
TZOFFSETFROM:-0700
TZOFFSETTO:-0800
TZNAME:PST
DTSTART:20271107T090000
END:STANDARD
END:VTIMEZONE
BEGIN:VEVENT
DTSTART;TZID=America/Los_Angeles:20260520T100000
DTEND;TZID=America/Los_Angeles:20260520T120000
DTSTAMP:20260421T010510
CREATED:20260306T214151Z
LAST-MODIFIED:20260306T214151Z
UID:10002714-1779271200-1779278400@www.grossmonthealthcare.org
SUMMARY:Community. Access. Connection. Art Workshops
DESCRIPTION:Join ArtReach San Diego instructors at the Health & Wellness Library for a Community. Access. Connection. art workshop to learn a diverse array of art mediums\, techniques\, and styles\, from art journaling\, acrylic painting\, and collage to textile art. All materials will be provided\, and all levels are encouraged to join. \nWhen: Wednesday\, May 20th\, 2026 | 10 AM – 12 PM\nHappens every 3rd Wednesday\nWhere: Grossmont Healthcare District’s Health & Wellness Library (9001 Wakarusa St. La Mesa\, CA 91942)\nRegister: After 4/15/26 12 PM (the previous class session has ended)\, sign up to reserve your spot for this class by calling 619.825.5010\, emailing library@grossmonthealthcare.org\, or visiting us in person. Make sure you have a GHD library card to register. \n\n\n\n\n\n\nThis is a program sponsored by the Grossmont Healthcare District\, with priority given to people with an East County connection\, those who live\, work\, attend school\, or access health care services within the boundaries of the District. If all spots have been filled\, we’ll add you to our waitlist and notify you of any changes. If there is space available\, other community members may attend.
URL:https://www.grossmonthealthcare.org/event/community-access-connection-art-workshops-9/
LOCATION:Grossmont Healthcare District’s Health & Wellness Library\, 9001 Wakarusa Street\, La Mesa\, CA\, 91942\, United States
CATEGORIES:GHD
ATTACH;FMTTYPE=image/jpeg:https://www.grossmonthealthcare.org/wp-content/uploads/2024/07/2024-featured-images-7.jpg
END:VEVENT
BEGIN:VEVENT
DTSTART;TZID=America/Los_Angeles:20260617T100000
DTEND;TZID=America/Los_Angeles:20260617T120000
DTSTAMP:20260421T010510
CREATED:20260306T214226Z
LAST-MODIFIED:20260306T214226Z
UID:10002715-1781690400-1781697600@www.grossmonthealthcare.org
SUMMARY:Community. Access. Connection. Art Workshops
DESCRIPTION:Join ArtReach San Diego instructors at the Health & Wellness Library for a Community. Access. Connection. art workshop to learn a diverse array of art mediums\, techniques\, and styles\, from art journaling\, acrylic painting\, and collage to textile art. All materials will be provided\, and all levels are encouraged to join. \nWhen: Wednesday\, June 17th\, 2026 | 10 AM – 12 PM\nHappens every 3rd Wednesday\nWhere: Grossmont Healthcare District’s Health & Wellness Library (9001 Wakarusa St. La Mesa\, CA 91942)\nRegister: After 5/20/26 12 PM (the previous class session has ended)\, sign up to reserve your spot for this class by calling 619.825.5010\, emailing library@grossmonthealthcare.org\, or visiting us in person. Make sure you have a GHD library card to register. \n\n\n\n\n\n\nThis is a program sponsored by the Grossmont Healthcare District\, with priority given to people with an East County connection\, those who live\, work\, attend school\, or access health care services within the boundaries of the District. If all spots have been filled\, we’ll add you to our waitlist and notify you of any changes. If there is space available\, other community members may attend.
URL:https://www.grossmonthealthcare.org/event/community-access-connection-art-workshops-10/
LOCATION:Grossmont Healthcare District’s Health & Wellness Library\, 9001 Wakarusa Street\, La Mesa\, CA\, 91942\, United States
CATEGORIES:GHD
ATTACH;FMTTYPE=image/jpeg:https://www.grossmonthealthcare.org/wp-content/uploads/2024/07/2024-featured-images-7.jpg
END:VEVENT
END:VCALENDAR